BEGIN:VCALENDAR
VERSION:2.0
PRODID:-//FoHVOS.org - ECPv6.15.20//NONSGML v1.0//EN
CALSCALE:GREGORIAN
METHOD:PUBLISH
X-ORIGINAL-URL:https://fohvos.org
X-WR-CALDESC:Events for FoHVOS.org
REFRESH-INTERVAL;VALUE=DURATION:PT1H
X-Robots-Tag:noindex
X-PUBLISHED-TTL:PT1H
BEGIN:VTIMEZONE
TZID:America/New_York
BEGIN:DAYLIGHT
TZOFFSETFROM:-0500
TZOFFSETTO:-0400
TZNAME:EDT
DTSTART:20250309T070000
END:DAYLIGHT
BEGIN:STANDARD
TZOFFSETFROM:-0400
TZOFFSETTO:-0500
TZNAME:EST
DTSTART:20251102T060000
END:STANDARD
BEGIN:DAYLIGHT
TZOFFSETFROM:-0500
TZOFFSETTO:-0400
TZNAME:EDT
DTSTART:20260308T070000
END:DAYLIGHT
BEGIN:STANDARD
TZOFFSETFROM:-0400
TZOFFSETTO:-0500
TZNAME:EST
DTSTART:20261101T060000
END:STANDARD
BEGIN:DAYLIGHT
TZOFFSETFROM:-0500
TZOFFSETTO:-0400
TZNAME:EDT
DTSTART:20270314T070000
END:DAYLIGHT
BEGIN:STANDARD
TZOFFSETFROM:-0400
TZOFFSETTO:-0500
TZNAME:EST
DTSTART:20271107T060000
END:STANDARD
END:VTIMEZONE
BEGIN:VEVENT
DTSTART;TZID=America/New_York:20260312T190000
DTEND;TZID=America/New_York:20260312T200000
DTSTAMP:20260424T173011
CREATED:20260205T145336Z
LAST-MODIFIED:20260227T144832Z
UID:18435-1773342000-1773345600@fohvos.org
SUMMARY:Bee-Friendly Communities with Olivia Matise\, Rescheduled!
DESCRIPTION:This talk will introduce the basics of native bee ecology\, and what you can do to protect and create bee habitat on your own land and within your communities. Register below for this free event! Please list number of attendees in the comments section. \n\n\n\nOlivia Matise is a Pollinator Conservation Specialist with The Xerces Society\, and a Partner Biologist with the USDA NRCS. Located in Central New Jersey\, Olivia provides technical assistance for pollinator conservation in the Mid-Atlantic and Northeast region. As an NRCS partner\, she supports agricultural producers and landowners on the planning and implementation of projects to benefit pollinators and beneficial insects. She is also the co-lead for the Xerces Society Habitat Kit Program in this region. \n\n\n\nOlivia holds a master’s degree in ecology\, evolution and environmental biology from Columbia University\, and conducted two research projects on bumble bee behavior and biology during both her undergraduate and graduate degrees. Her previous experience includes an internship with The Bee Conservancy of NYC\, and she is passionate about urban ecology\, community engagement with conservation\, and sustainable farming.
URL:https://fohvos.org/event/bee-friendly-communities-with-olivia-matise/
LOCATION:Historic Hunt House\, 197 Blackwell Rd\, Pennington\, New Jersey\, 08534\, United States
ATTACH;FMTTYPE=image/jpeg:https://fohvos.org/wp-content/uploads/xerces-talk.jpg
END:VEVENT
BEGIN:VEVENT
DTSTART;TZID=America/New_York:20260326T180000
DTEND;TZID=America/New_York:20260326T193000
DTSTAMP:20260424T173011
CREATED:20260311T161514Z
LAST-MODIFIED:20260313T213700Z
UID:18690-1774548000-1774553400@fohvos.org
SUMMARY:Preserving the Sourlands & Beyond
DESCRIPTION:Curious about how your property can help support wildlife\, protect clean water\, and strengthen our region’s resilience? Join FoHVOS and discover how every property\, no matter the size\, contributes to the health of the Sourlands and the broader Central Jersey landscape. \n\n\n\nDuring this program\, FoHVOS Conservation Biologist Kaitlin Muccio will introduce our new Ecological Priority Model\, a science-based tool designed to help landowners\, municipalities\, and conservation partners understand where conservation actions can make the greatest impact. Developed through the FoHVOS Community Conservation and Resiliency Plan\, funded by a Land Trust Alliance & Open Space Institute Land & Climate Grant\, the model highlights areas of high ecological value across 141\,000 acres in 13 municipalities\, including the entire Sourland Mountain region. \n\n\n\nParticipants will explore:  \n\n\n\n\nThe data and mapping behind the model\n\n\n\nThe priority areas identified\n\n\n\nHow individual properties fit into the larger conservation picture\n\n\n\n\nWhether you care for a few garden beds or many acres\, your land matters and can help steward the Sourlands and beyond. \n\n\n\nRegistration is required\, please register for the talk below\, and indicate how many will be attending. \n\n\n\n\n\n\n\n\n\n\n\n\n\n\n\n\n\n\n\n\nRegister for this event!
URL:https://fohvos.org/event/preserving-the-sourlands-beyond/
LOCATION:NJ
ATTACH;FMTTYPE=image/webp:https://fohvos.org/wp-content/uploads/Preserving-the-Sourlands-and-More_Graphic.webp
END:VEVENT
BEGIN:VEVENT
DTSTART;TZID=America/New_York:20260329T100000
DTEND;TZID=America/New_York:20260329T120000
DTSTAMP:20260424T173011
CREATED:20260305T185840Z
LAST-MODIFIED:20260325T190305Z
UID:18603-1774778400-1774785600@fohvos.org
SUMMARY:Vernal Pool Walk
DESCRIPTION:Vernal pools are important breeding habitat for amphibians like spring peepers\, spotted salamanders and wood frogs. Unlike other bodies of water\, vernal pools are temporary\, usually drying up by mid-summer. On this guided hike\, we plan to visit some vernal pool sites and see (and hear!) evidence of amphibian activity. We will also learn about acoustic monitoring initiatives to study frog breeding calls\, and discuss the effects of the 2024 fire that occurred on the preserve. This hike will be at a leisurely pace on marked trails. Be sure to bring water and wear shoes appropriate for hiking in wet areas.Register for this event by emailing lmcnamara@fohvos.org. When sending your email\, please indicate the number of people attending the hike.
URL:https://fohvos.org/event/vernal-pool-walk/
LOCATION:NJ
ATTACH;FMTTYPE=image/png:https://fohvos.org/wp-content/uploads/FoHVOS-events-1.png
END:VEVENT
END:VCALENDAR