BEGIN:VCALENDAR
VERSION:2.0
PRODID:-//FoHVOS.org - ECPv6.15.20//NONSGML v1.0//EN
CALSCALE:GREGORIAN
METHOD:PUBLISH
X-WR-CALNAME:FoHVOS.org
X-ORIGINAL-URL:https://fohvos.org
X-WR-CALDESC:Events for FoHVOS.org
REFRESH-INTERVAL;VALUE=DURATION:PT1H
X-Robots-Tag:noindex
X-PUBLISHED-TTL:PT1H
BEGIN:VTIMEZONE
TZID:America/New_York
BEGIN:DAYLIGHT
TZOFFSETFROM:-0500
TZOFFSETTO:-0400
TZNAME:EDT
DTSTART:20170312T070000
END:DAYLIGHT
BEGIN:STANDARD
TZOFFSETFROM:-0400
TZOFFSETTO:-0500
TZNAME:EST
DTSTART:20171105T060000
END:STANDARD
BEGIN:DAYLIGHT
TZOFFSETFROM:-0500
TZOFFSETTO:-0400
TZNAME:EDT
DTSTART:20180311T070000
END:DAYLIGHT
BEGIN:STANDARD
TZOFFSETFROM:-0400
TZOFFSETTO:-0500
TZNAME:EST
DTSTART:20181104T060000
END:STANDARD
BEGIN:DAYLIGHT
TZOFFSETFROM:-0500
TZOFFSETTO:-0400
TZNAME:EDT
DTSTART:20190310T070000
END:DAYLIGHT
BEGIN:STANDARD
TZOFFSETFROM:-0400
TZOFFSETTO:-0500
TZNAME:EST
DTSTART:20191103T060000
END:STANDARD
END:VTIMEZONE
BEGIN:VTIMEZONE
TZID:UTC
BEGIN:STANDARD
TZOFFSETFROM:+0000
TZOFFSETTO:+0000
TZNAME:UTC
DTSTART:20160101T000000
END:STANDARD
END:VTIMEZONE
BEGIN:VEVENT
DTSTART;TZID=America/New_York:20180922T100000
DTEND;TZID=America/New_York:20180922T160000
DTSTAMP:20260425T085509
CREATED:20180828T180657Z
LAST-MODIFIED:20180906T174919Z
UID:4215-1537610400-1537632000@fohvos.org
SUMMARY:Hopewell Harvest Fair
DESCRIPTION:FoHVOS will have a table at the Hopewell Harvest Fair\, an annual fall event that brings together community groups\, local businesses\, civic organizations\, and individuals to celebrate our area and all it has to offer. Stop by and say hi! We will have membership brochures\, information on our upcoming events\, and you can meet the faces of FoHVOS and chat with us about what we do. We hope to see you there!
URL:https://fohvos.org/event/hopewell-harvest-fair/
LOCATION:Hopewell Elementary School\, 35 Princeton Avenue\, Hopewell\, NJ\, 08525\, United States
CATEGORIES:Fair,FoHVOS
ATTACH;FMTTYPE=image/png:https://fohvos.org/wp-content/uploads/2018/08/Hopewell-Harvest-Fair.png
END:VEVENT
BEGIN:VEVENT
DTSTART;TZID=America/New_York:20180920T100000
DTEND;TZID=America/New_York:20180920T140000
DTSTAMP:20260425T085509
CREATED:20180828T175233Z
LAST-MODIFIED:20180917T034600Z
UID:4186-1537437600-1537452000@fohvos.org
SUMMARY:Forest Restoration Workshop
DESCRIPTION:Free Workshop\nIncludes Lunch \nLearn the process of restoring a 6-acre forest at the Mount Rose Preserve in Hopewell Township. Michael Van Clef\, Stewardship Director of Friends of Hopewell Valley Open Space\, and Jared Rosenbaum\, Botanist with Wild Ridge Plants\, will discuss the comprehensive stewardship plan developed and the steps taken to restore this forest\, including the installation of deer fencing and planting of 2\,000 native wildflowers specially selected and grown for the site. Topics will include initial site surveying/mapping\, restoration site selection\, utilization of the quantitative Floristic Quality Assessment Index to establish a baseline within and adjacent to the restoration area\, restoration plant species selection\, determination of planting areas and planting patterns\, and implementation utilizing volunteers to support planting activities. The workshop will start at the office of FOHVOS and end with a walking tour of the restoration site. Participants will be invited to hike the trails of Mount Rose Preserve after the program. The Preserve is owned by NJ Conservation Foundation\, Hopewell Township\, Mercer County and FOHVOS. \n\nRegister\n  \nBrought to you by New Jersey Land Trust Network
URL:https://fohvos.org/event/forest-restoration-workshop/
LOCATION:FoHVOS Office\, 28 Fiddlers Creek Road\, Titusville\, NJ\, 08560\, United States
CATEGORIES:FoHVOS,Workshop
ATTACH;FMTTYPE=image/jpeg:https://fohvos.org/wp-content/uploads/2018/08/Forest-Restoration-Workshop.jpg
END:VEVENT
BEGIN:VEVENT
DTSTART;TZID=UTC:20180916T100000
DTEND;TZID=UTC:20180916T130000
DTSTAMP:20260425T085509
CREATED:20180906T182532Z
LAST-MODIFIED:20180906T182532Z
UID:4416-1537092000-1537102800@fohvos.org
SUMMARY:Essex County Master Gardeners - Invasive Species and Deer Resistant Natives
DESCRIPTION:
URL:https://fohvos.org/event/essex-county-master-gardeners-invasive-species-and-deer-resistant-natives/
LOCATION:Hilltop Reservation\, Hilltop Reservation\, Verona\, NJ\, 07044\, United States
CATEGORIES:Strike Team
END:VEVENT
BEGIN:VEVENT
DTSTART;TZID=America/New_York:20180915T183000
DTEND;TZID=America/New_York:20180915T220000
DTSTAMP:20260425T085509
CREATED:20180610T201300Z
LAST-MODIFIED:20180906T174830Z
UID:2241-1537036200-1537048800@fohvos.org
SUMMARY:FoHVOS Force of Nature Annual Gala 2018
DESCRIPTION:Click here to visit the gala page for more information about attending or sponsoring the event.
URL:https://fohvos.org/event/fohvos-2018-gala/
LOCATION:Glenmoore Barn\, Hopewell\, 105 Pennington-Hopewell Road\,\, Hopewell\, NJ\, 08525\, United States
CATEGORIES:FoHVOS,FoHVOS Fundraisers,Upcoming Event
ATTACH;FMTTYPE=image/png:https://fohvos.org/wp-content/uploads/2018/08/FON-Gala-info-crop.png
ORGANIZER;CN="FoHVOS":MAILTO:info@fohvos.org
END:VEVENT
BEGIN:VEVENT
DTSTART;TZID=America/New_York:20180914T083000
DTEND;TZID=America/New_York:20180914T153000
DTSTAMP:20260425T085509
CREATED:20180906T181757Z
LAST-MODIFIED:20180906T181757Z
UID:4412-1536913800-1536939000@fohvos.org
SUMMARY:Watershed Institute - Citizen Science Symposium
DESCRIPTION:
URL:https://fohvos.org/event/watershed-institute-citizen-science-symposium/
LOCATION:Watershed Institute\, 31 Titus Mill Rd\, Pennington\, NJ\, 08534\, United States
CATEGORIES:Strike Team
END:VEVENT
BEGIN:VEVENT
DTSTART;TZID=America/New_York:20180826T090000
DTEND;TZID=America/New_York:20180826T090000
DTSTAMP:20260425T085509
CREATED:20180815T071936Z
LAST-MODIFIED:20180823T190407Z
UID:3936-1535274000-1535274000@fohvos.org
SUMMARY:Forest Bathing & Streamside Meditation
DESCRIPTION:Forest bathing and streamside meditation as we hike the Ridge Trail on the Ted Stiles Preserve. \n\nRegister\n  \n2018 FoHVOS Force of Nature Hike Series for Women and Girls\n \nInspired by our pilot hike last fall\, Friends of Hopewell Valley Open Space is presenting a series of 6 “Force of Nature” hikes\, partnering with RomYoga to host hiking\, forest bathing\, yoga and meditation on open space in the Hopewell Valley! Slow down and become immersed in the natural environment. Tune into the smells\, textures\, tastes and sights of the forest. (Forest Bathing does not include bathing in water\, see our recent blog post Forest Bathing in the Hopewell Valley!) \nYogi\, life coach\, and wellness expert Romy Toussaint will lead wellness hikes for women and girls that will include a guided meditation and forest bathing experience at the Mount Rose Preserve\, Baldpate Mountain\, Fiddler’s Creek Preserve\, Thompson Preserve and a New Preserve! \nSeries of 6 Force of Nature Hikes – $25 members\, $30 non-members\nIndividual hikes – $5 members\, $10 non-members\nWomen & Girls; 15 years old and under are free\nWear comfortable shoes to hike in\, dress for the weather\, and bring water.\nThe hikes will go on rain or shine. Women & Girls who are able to hike a 2-mile route are encouraged to register! \nQuestions? Please email info@fohvos.org or 609-730-1560
URL:https://fohvos.org/event/forest-bathing-streamside-meditation/
LOCATION:Baldpate Mountain\, 28 Fiddlers Creek Road\, Titusville\, NJ\, 08560\, United States
CATEGORIES:Force of Nature Hike Series,Hike,Upcoming Event
END:VEVENT
BEGIN:VEVENT
DTSTART;TZID=UTC:20180422T070000
DTEND;TZID=UTC:20180422T110000
DTSTAMP:20260425T085510
CREATED:20180307T215827Z
LAST-MODIFIED:20180327T174556Z
UID:2166-1524380400-1524394800@fohvos.org
SUMMARY:Spring Bird Hike
DESCRIPTION:FoHVOS is co-sponsoring a hike with the Washington Crossing Audubon Society (WCAS) at the Mount Rose Preserve. Join FoHVOS Land Steward Beth Craighead and birding enthusiast Sharyn Magee of the WCAS for an early morning walk to look and listen for early spring migrants. The walk will run throughout the morning\, but you can leave early if you need to. The Mount Rose Preserve is a nearly 400-acre preserve that is co-owned by FoHVOS\, NJCF\, Hopewell Township and Mercer County. The preserve is a mosaic of forest\, shrubland\, and meadow\, and is home to many rare and threatened species. To register email jsnyder@fohvos.org. \nMount Rose Preserve is owned and managed by New Jersey Conservation Foundation\, Friends of Hopewell Valley Open Space\, Hopewell Township\, and Mercer County. It was preserved in partnership with the following additional organizations: Hopewell Valley Citizens Group Inc.\, NJ Green Acres Program\, Stony Brook-Millstone Watershed Association\, Lawrence Hopewell Trail\, Hopewell Borough\, Pennington Borough\, Friends of Princeton Open Space\, D&R Greenway Land Trust\, Lawrence Township and Princeton.
URL:https://fohvos.org/event/spring-bird-hike/
LOCATION:Mount Rose Preserve\, Mount Rose Preserve\, Princeton\, NJ\, 08540\, United States
CATEGORIES:Birding,Hike,Upcoming Event
END:VEVENT
BEGIN:VEVENT
DTSTART;TZID=UTC:20180414T080000
DTEND;TZID=UTC:20180414T120000
DTSTAMP:20260425T085510
CREATED:20180307T215510Z
LAST-MODIFIED:20180327T174301Z
UID:2158-1523692800-1523707200@fohvos.org
SUMMARY:Clean Communities
DESCRIPTION:Individuals and groups can raise money for area non-profits while cleaning up Hopewell Township! FoHVOS partners with Hopewell Township to participate in this statewide program to keep our public spaces clean and provide funds to non-profits. We will provide trash bags\, gloves\, and vests. We welcome all groups and individuals to participate – we have over 100 designated cleanup sites! Volunteers under the age of 13 earn $6/hour and volunteers 13 and up earn $8/hour for the non-profit of their choice. Email bcraighead@fohvos.org for more details.
URL:https://fohvos.org/event/clean-communities/
LOCATION:Hopewell Township Public Works\, 203 Washington Crossing-Pennington Rd.\, Titusville\, NJ\, 08560\, United States
CATEGORIES:Upcoming Event
END:VEVENT
BEGIN:VEVENT
DTSTART;TZID=UTC:20180327T090000
DTEND;TZID=UTC:20180327T153000
DTSTAMP:20260425T085510
CREATED:20180327T174933Z
LAST-MODIFIED:20180327T175117Z
UID:2202-1522141200-1522164600@fohvos.org
SUMMARY:New Jersey Invasive Species Strike Team Conference
DESCRIPTION:The upcoming annual Strike Team conference will include seminars on foraging for invasive species\, the great things happening in New York state\, and historical changes of invasive species in central New Jersey forests. There will be two interactive panel discussions – rare species conservation and our newest emerging invasive species threats. We’ll also be honoring the outstanding volunteers that have worked many hundreds of hours to protect New Jersey’s natural heritage! \nThe registration fee is $69 and includes lunch. Register through our EventBrite page here. \nSee the conference schedule in our latest email campaign here. \nCEUs are available!
URL:https://fohvos.org/event/new-jersey-invasive-species-strike-team-conference/
LOCATION:Duke Farms Coach Barn\, 80 Rte 206 South\, Hillsborough\, NJ\, 08844\, United States
END:VEVENT
BEGIN:VEVENT
DTSTART;TZID=UTC:20180310T083000
DTEND;TZID=UTC:20180310T110000
DTSTAMP:20260425T085510
CREATED:20180307T214017Z
LAST-MODIFIED:20180307T222507Z
UID:2152-1520670600-1520679600@fohvos.org
SUMMARY:Mount Rose Bird Walk
DESCRIPTION:Grab your binoculars and come join one of our Volunteer Naturalists\, Mark Manning\, for a beginner bird walk at the Mount Rose Preserve. This newly acquired preserve provides a variety of habitats for a number of interesting bird species. Our focus will be on identifying winter migrant and resident birds that are found at the preserve. If you have little to no experience and always wanted to begin birding\, or if you are a backyard bird watcher who would like to take the next step\, this program is for you! To register email Julia at jsnyder@fohvos.org. \nMount Rose Preserve is owned and managed by New Jersey Conservation Foundation\, Friends of Hopewell Valley Open Space\, Hopewell Township\, and Mercer County. It was preserved in partnership with the following additional organizations: Hopewell Valley Citizens Group Inc.\, NJ Green Acres Program\, Stony Brook-Millstone Watershed Association\, Lawrence Hopewell Trail\, Hopewell Borough\, Pennington Borough\, Friends of Princeton Open Space\, D&R Greenway Land Trust\, Lawrence Township and Princeton.
URL:https://fohvos.org/event/mount-rose-bird-walk/
LOCATION:Mount Rose Preserve\, Mount Rose Preserve\, Princeton\, NJ\, 08540\, United States
CATEGORIES:Birding,Hike
ATTACH;FMTTYPE=image/jpeg:https://fohvos.org/wp-content/uploads/2018/03/Birdings.jpg
END:VEVENT
BEGIN:VEVENT
DTSTART;TZID=UTC:20170916T190000
DTEND;TZID=UTC:20170916T220000
DTSTAMP:20260425T085510
CREATED:20170729T063947Z
LAST-MODIFIED:20170731T184453Z
UID:597-1505588400-1505599200@fohvos.org
SUMMARY:30th Anniversary Gala
DESCRIPTION:Join FoHVOS in celebrating 30 years of preservation in Hopewell Valley for a night wonderful food\, music and cocktails.  Sponsorships are available.
URL:https://fohvos.org/event/30th-anniversary-gala/
LOCATION:Glenmoore Barn\, Hopewell\, 105 Pennington-Hopewell Road\,\, Hopewell\, NJ\, 08525\, United States
CATEGORIES:FoHVOS Fundraisers
ATTACH;FMTTYPE=image/jpeg:https://fohvos.org/wp-content/uploads/2017/07/gala-2017.jpg
ORGANIZER;CN="FoHVOS":MAILTO:info@fohvos.org
END:VEVENT
BEGIN:VEVENT
DTSTART;TZID=UTC:20170318T100000
DTEND;TZID=UTC:20170318T160000
DTSTAMP:20260425T085510
CREATED:20170318T103637Z
LAST-MODIFIED:20170318T103637Z
UID:371-1489831200-1489852800@fohvos.org
SUMMARY:RECYCLING PLASTIC AND WASTE MANAGEMENT FOR THE CLEAN ENVIRONMENT
DESCRIPTION:EVENT ORGANIZER\n\nOrganizer NamePodgorica\nPhone+04 2345 6789\nEmailinfo@podgorica.com\nWebsitewww.pogorica.com
URL:https://fohvos.org/event/recycling-plastic-and-waste-management-for-the-clean-environment-3/
LOCATION:feature-performance
CATEGORIES:Upcoming Event
ATTACH;FMTTYPE=image/png:https://fohvos.org/wp-content/uploads/layerslider/Previous-v5-demo-slider/html5-color.png
END:VEVENT
END:VCALENDAR