BEGIN:VCALENDAR
VERSION:2.0
PRODID:-//FoHVOS.org - ECPv6.15.20//NONSGML v1.0//EN
CALSCALE:GREGORIAN
METHOD:PUBLISH
X-WR-CALNAME:FoHVOS.org
X-ORIGINAL-URL:https://fohvos.org
X-WR-CALDESC:Events for FoHVOS.org
REFRESH-INTERVAL;VALUE=DURATION:PT1H
X-Robots-Tag:noindex
X-PUBLISHED-TTL:PT1H
BEGIN:VTIMEZONE
TZID:America/New_York
BEGIN:DAYLIGHT
TZOFFSETFROM:-0500
TZOFFSETTO:-0400
TZNAME:EDT
DTSTART:20180311T070000
END:DAYLIGHT
BEGIN:STANDARD
TZOFFSETFROM:-0400
TZOFFSETTO:-0500
TZNAME:EST
DTSTART:20181104T060000
END:STANDARD
BEGIN:DAYLIGHT
TZOFFSETFROM:-0500
TZOFFSETTO:-0400
TZNAME:EDT
DTSTART:20190310T070000
END:DAYLIGHT
BEGIN:STANDARD
TZOFFSETFROM:-0400
TZOFFSETTO:-0500
TZNAME:EST
DTSTART:20191103T060000
END:STANDARD
BEGIN:DAYLIGHT
TZOFFSETFROM:-0500
TZOFFSETTO:-0400
TZNAME:EDT
DTSTART:20200308T070000
END:DAYLIGHT
BEGIN:STANDARD
TZOFFSETFROM:-0400
TZOFFSETTO:-0500
TZNAME:EST
DTSTART:20201101T060000
END:STANDARD
BEGIN:DAYLIGHT
TZOFFSETFROM:-0500
TZOFFSETTO:-0400
TZNAME:EDT
DTSTART:20210314T070000
END:DAYLIGHT
BEGIN:STANDARD
TZOFFSETFROM:-0400
TZOFFSETTO:-0500
TZNAME:EST
DTSTART:20211107T060000
END:STANDARD
END:VTIMEZONE
BEGIN:VTIMEZONE
TZID:UTC
BEGIN:STANDARD
TZOFFSETFROM:+0000
TZOFFSETTO:+0000
TZNAME:UTC
DTSTART:20180101T000000
END:STANDARD
END:VTIMEZONE
BEGIN:VEVENT
DTSTART;TZID=America/New_York:20200427T180000
DTEND;TZID=America/New_York:20200427T193000
DTSTAMP:20260425T140521
CREATED:20200209T133559Z
LAST-MODIFIED:20200209T133559Z
UID:7906-1588010400-1588015800@fohvos.org
SUMMARY:New Jersey Invasive Species Strike Team Presentation
DESCRIPTION:
URL:https://fohvos.org/event/new-jersey-invasive-species-strike-team-presentation/
LOCATION:Rutgers University\, Cook College\, Environmental and Natural Resources Building\, 14 College Farm Road\, New Brunswick\, NJ\, 08901\, United States
CATEGORIES:Strike Team
ATTACH;FMTTYPE=image/jpeg:https://fohvos.org/wp-content/uploads/2019/07/IMG_6345.jpg
END:VEVENT
BEGIN:VEVENT
DTSTART;VALUE=DATE:20200417
DTEND;VALUE=DATE:20200418
DTSTAMP:20260425T140521
CREATED:20200209T130340Z
LAST-MODIFIED:20200209T130340Z
UID:7877-1587081600-1587167999@fohvos.org
SUMMARY:Government Naturalists - Invasive Species Presentation
DESCRIPTION:
URL:https://fohvos.org/event/government-naturalists-invasive-species-presentation/
LOCATION:Essex County Environmental Center\, 612-B Eagle Rock Avenue\, Roseland\, NJ\, 07068\, United States
CATEGORIES:Strike Team
ATTACH;FMTTYPE=image/jpeg:https://fohvos.org/wp-content/uploads/2019/07/IMG_4325-scaled.jpg
END:VEVENT
BEGIN:VEVENT
DTSTART;TZID=America/New_York:20200311T120000
DTEND;TZID=America/New_York:20200311T133000
DTSTAMP:20260425T140521
CREATED:20200209T130017Z
LAST-MODIFIED:20200209T130017Z
UID:7875-1583928000-1583933400@fohvos.org
SUMMARY:Rake and Hoe Garden Club Presentation
DESCRIPTION:
URL:https://fohvos.org/event/rake-and-hoe-garden-club-presentation/
LOCATION:Scotch Hills Country Club\, 820 Jerusalem Rd\, Scotch Plains\, NJ\, 07076\, United States
CATEGORIES:Strike Team
ATTACH;FMTTYPE=image/jpeg:https://fohvos.org/wp-content/uploads/2019/07/IMG_7403-scaled.jpg
END:VEVENT
BEGIN:VEVENT
DTSTART;TZID=America/New_York:20200310T130000
DTEND;TZID=America/New_York:20200310T143000
DTSTAMP:20260425T140521
CREATED:20200209T125724Z
LAST-MODIFIED:20200209T125724Z
UID:7872-1583845200-1583850600@fohvos.org
SUMMARY:Westfield Garden Club - Invasive Plants\, The Problems and Identification - Presentation
DESCRIPTION:
URL:https://fohvos.org/event/westfield-garden-club-invasive-plants-the-problems-and-identification-presentation/
LOCATION:Scotch Hills Country Club\, 820 Jerusalem Rd\, Scotch Plains\, NJ\, 07076\, United States
CATEGORIES:Strike Team
ATTACH;FMTTYPE=image/jpeg:https://fohvos.org/wp-content/uploads/2017/08/RM_Sundrops-20120709-IMG_8630-scaled.jpg
END:VEVENT
BEGIN:VEVENT
DTSTART;TZID=America/New_York:20200303T090000
DTEND;TZID=America/New_York:20200303T120000
DTSTAMP:20260425T140521
CREATED:20200209T125320Z
LAST-MODIFIED:20200209T125320Z
UID:7869-1583226000-1583236800@fohvos.org
SUMMARY:Atlantic County Master Gardeners - Invasive Plants and Native Plants Presentation
DESCRIPTION:
URL:https://fohvos.org/event/atlantic-county-master-gardeners-invasive-plants-and-native-plants-presentation/
LOCATION:Rutgers Cooperative Extension of Atlantic County\, 6260 Old Harding Highway\, Mays Landing\, 08330\, United States
CATEGORIES:Strike Team
ATTACH;FMTTYPE=image/jpeg:https://fohvos.org/wp-content/uploads/2019/07/IMG_5994-scaled.jpg
END:VEVENT
BEGIN:VEVENT
DTSTART;TZID=America/New_York:20200209T133000
DTEND;TZID=America/New_York:20200209T150000
DTSTAMP:20260425T140521
CREATED:20200209T125025Z
LAST-MODIFIED:20200209T125025Z
UID:7863-1581255000-1581260400@fohvos.org
SUMMARY:Dayton Village Citizens’ Coalition (DVCC) and South Brunswick Garden Club Presentation
DESCRIPTION:
URL:https://fohvos.org/event/dayton-village-citizens-coalition-dvcc-and-south-brunswick-garden-club-presentation/
LOCATION:South Brunswick Public Library\, 110 Kingston Lane\, Monmouth Junction\, NJ\, 08852\, United States
CATEGORIES:Strike Team
ATTACH;FMTTYPE=image/jpeg:https://fohvos.org/wp-content/uploads/2020/01/IMG_1454.jpg
END:VEVENT
BEGIN:VEVENT
DTSTART;TZID=America/New_York:20191019T080000
DTEND;TZID=America/New_York:20191019T130000
DTSTAMP:20260425T140521
CREATED:20190828T193411Z
LAST-MODIFIED:20191004T172550Z
UID:6779-1571472000-1571490000@fohvos.org
SUMMARY:Clean Communities Day - October 19\, 2019
DESCRIPTION:Join FoHVOS Saturday\, October 19\, 2019\nClean Communities Day\nIs your group looking for a meaningful way to\nraise extra money? Or\, are you an individual (youth or adult)\nlooking to give back to the community?\n\nRegister Here!\n  \nWHEN: Saturday\, October 19.\nRegistration and assignments between 8-10am!\nWHO: Any youth\, religious\, school or civic organization may participate. Even individuals!\nWHERE: Hopewell Township Public Works\n203 Washington-Pennington Rd. Titusville\, NJ 08560\nWHAT: Over 100 designated Clean Up areas.\n  \n\nRegister Here!\n\n\n\n\n\nWork for two hours and receive a T-shirt and\nearn money for the nonprofit of your choice!\nFor more information email bcraighead@fohvos.org\n\nSponsored by Friends of Hopewell Valley (FoHVOS) in partnership with Hopewell Township
URL:https://fohvos.org/event/clean-communities-day-2019/
LOCATION:Hopewell Township Public Works\, 203 Washington Crossing-Pennington Rd.\, Titusville\, NJ\, 08560\, United States
CATEGORIES:FoHVOS,Strike Team,Upcoming Event
ATTACH;FMTTYPE=image/jpeg:https://fohvos.org/wp-content/uploads/2019/08/cleancommunities2019.jpg
END:VEVENT
BEGIN:VEVENT
DTSTART;TZID=UTC:20191010T193000
DTEND;TZID=UTC:20191010T210000
DTSTAMP:20260425T140521
CREATED:20190506T180311Z
LAST-MODIFIED:20190506T180311Z
UID:6349-1570735800-1570741200@fohvos.org
SUMMARY:Aquetong Watershed Association talk
DESCRIPTION:Presentation\nRSVP (required) to info@fohvos.org
URL:https://fohvos.org/event/aquetong-watershed-association-talk/
LOCATION:Bowman’s Hill Wildflower Preserve\, 1635 River Rd\, New Hope\, PA\, 18938\, United States
CATEGORIES:Strike Team
ATTACH;FMTTYPE=image/jpeg:https://fohvos.org/wp-content/uploads/2018/11/RVC_Pine_Pond_Preserve_No_Attribution.jpg
END:VEVENT
BEGIN:VEVENT
DTSTART;TZID=UTC:20191007T190000
DTEND;TZID=UTC:20191007T203000
DTSTAMP:20260425T140521
CREATED:20190506T175514Z
LAST-MODIFIED:20190506T175645Z
UID:6345-1570474800-1570480200@fohvos.org
SUMMARY:Maplewood Garden Club - Invasive Species
DESCRIPTION:Presentation\nTopic: Invasive Species Talk\nRSVP (required) to info@fohvos.org
URL:https://fohvos.org/event/maplewood-garden-club-invasive-species/
LOCATION:Maplewood Garden Club\, 51 Baker Street\, Maplewood\, NJ\, 07040\, United States
CATEGORIES:Invasive Species Talk,Strike Team
ATTACH;FMTTYPE=image/jpeg:https://fohvos.org/wp-content/uploads/2018/11/Princeton_Bloodroot_by_No_Attribution.jpg
END:VEVENT
BEGIN:VEVENT
DTSTART;TZID=UTC:20191003T180000
DTEND;TZID=UTC:20191003T210000
DTSTAMP:20260425T140521
CREATED:20190905T195352Z
LAST-MODIFIED:20190910T183114Z
UID:7014-1570125600-1570136400@fohvos.org
SUMMARY:Eat the Invasives Potluck
DESCRIPTION:  \n\n\n\n\n\n\n\n\n\n\n\n\n\nJoin the Strike Team for a special Invasive Potluck!\n\n\n\n\n\n\n\n\n\n\n\n\n\n\n\n\n\n  \n\n\n\n\n\n\n\n\n\n\n\n\n\n\nYou’re invited to the\nEat the Invasives Potluck\nFrelinghuysen Arboretum\nThursday\, October 3\n6 – 9 PM\n\n\n\nJoin us for a potluck featuring invasive species & local cuisine. Free & family-friendly.\nWater and tea\, plates\, and utensils provided.\n\nInvasive-centric dishes are encouraged\, but feel free to bring anything locally foraged\, grown\, harvested\, or homemade.\nPlease bring enough to share!\n\n\n\n\n\n\nWondering what to bring to an invasive species potluck? Locally hunted venison\, foraged berries and herbs\, or anything from your garden will be welcome additions. If you missed the wineberry harvest\, or are lucky enough not to have any invasives lying around\, feel free to bring something wild\, homemade\, or just local. All are welcome at this event\, so please come whether or not your dish is invasive. We look forward to seeing you there!\n\n\n\n\n\n\n\n\n\n\n\n\n\n\n\nInvasive Species Recipe Board\n\n\n\n\n\n\n\n\n\n\n\n \n\n\n\n\n\n\n\n\n\n\n\n\nForaging Autumn Olive berries\n\n\n\n\n\n\n\n\n\n\n\n\n\n\n\n\n\n \n\n\n\n\n\n\n\n\n\n\n\n\nInspiration for invasives like wineberry here\n\n\n\n\n\n\n\n\n\n\n\n\n\n\n\n\n\n\n\nEnough recipes for ALL the Dandelion in your yard\n\n\n\n\n\n\n\n\n\n\n\n\n\n\n\n\n\n \n\n\n\n\n\n\n\n\n\n\n\n\nTry to find your bow in the garage…\n\n\n\n\n\n\n\n\n\n\n\n\n\n\n\n\n\n \n\n\n\n\n\n\n\n\n\n\n\n\n\n\nGourmet Lamb’s Quarters\n\n\n\n\n\n\n\n\n\n\n\n\n\n\n 
URL:https://fohvos.org/event/eat-the-invasives-potluck/
LOCATION:Frelinghuysen Arboretum\, 353 E Hanover Ave\, Morris Township\, NJ\, 07960\, United States
CATEGORIES:Invasive Species Talk,Strike Team,Upcoming Event
ATTACH;FMTTYPE=image/jpeg:https://fohvos.org/wp-content/uploads/2019/09/img6.jpg
END:VEVENT
BEGIN:VEVENT
DTSTART;TZID=UTC:20190907T100000
DTEND;TZID=UTC:20190907T153000
DTSTAMP:20260425T140521
CREATED:20190506T174837Z
LAST-MODIFIED:20190506T175002Z
UID:6342-1567850400-1567870200@fohvos.org
SUMMARY:Eric C. Watson Memorial Environmental Fair
DESCRIPTION:Tabling event\nRSVP (required) to info@fohvos.org
URL:https://fohvos.org/event/eric-c-watson-memorial-environmental-fair/
LOCATION:Library Park\, Plainfield\, NJ\, United States
CATEGORIES:Strike Team
ATTACH;FMTTYPE=image/jpeg:https://fohvos.org/wp-content/uploads/2018/11/NJCF_Kudzu_By_Sol_Basilyan-e1543298707407-scaled.jpg
END:VEVENT
BEGIN:VEVENT
DTSTART;TZID=UTC:20190804T140000
DTEND;TZID=UTC:20190804T140000
DTSTAMP:20260425T140521
CREATED:20190506T174007Z
LAST-MODIFIED:20190507T153922Z
UID:6337-1564927200-1564927200@fohvos.org
SUMMARY:NJ State Fair Tabling Event and Presentation
DESCRIPTION:Tabling event and presentation\nRSVP (required) to info@fohvos.org
URL:https://fohvos.org/event/tabling-event-and-presentation-at-nj-state-fair/
LOCATION:NJ State Fair\, 37 Plains Road\, Augusta\, NJ\, United States
CATEGORIES:Strike Team
ATTACH;FMTTYPE=image/jpeg:https://fohvos.org/wp-content/uploads/2018/11/Morris_County_Parks_Tourne_No_Attribution.jpg
END:VEVENT
BEGIN:VEVENT
DTSTART;VALUE=DATE:20190720
DTEND;VALUE=DATE:20190721
DTSTAMP:20260425T140521
CREATED:20190430T085428Z
LAST-MODIFIED:20190430T085428Z
UID:6304-1563580800-1563667199@fohvos.org
SUMMARY:Master Ecologist Class
DESCRIPTION:Topic: Stewardship Including Deer and Invasive Species\nEvent Is Full
URL:https://fohvos.org/event/master-ecologist-class/
LOCATION:Duke Farms\, 1112 Dukes Pkwy W\, Hillsborough\, NJ\, 08844\, United States
CATEGORIES:Strike Team
ATTACH;FMTTYPE=image/jpeg:https://fohvos.org/wp-content/uploads/2018/11/deer3.jpg
END:VEVENT
BEGIN:VEVENT
DTSTART;TZID=America/New_York:20190622T150000
DTEND;TZID=America/New_York:20190622T220000
DTSTAMP:20260425T140521
CREATED:20190430T084621Z
LAST-MODIFIED:20190507T153756Z
UID:6300-1561215600-1561240800@fohvos.org
SUMMARY:Sourland Mountain Festival
DESCRIPTION:Tabling Event\nRSVP: info@fohvos.org \nTo be held on the “polo field” at Hillsborough Golf & Country Club
URL:https://fohvos.org/event/sourland-mountain-festival/
LOCATION:Hillsborough Golf & Country Club\, 146 Wertsville Rd\, Hillsborough\, NJ\, 08844\, United States
CATEGORIES:Strike Team
ATTACH;FMTTYPE=image/jpeg:https://fohvos.org/wp-content/uploads/2018/02/Butterfly-milkweed-and-fritillary-7-e1533137881766-scaled.jpg
END:VEVENT
BEGIN:VEVENT
DTSTART;TZID=UTC:20190608T100000
DTEND;TZID=UTC:20190608T160000
DTSTAMP:20260425T140521
CREATED:20190213T224432Z
LAST-MODIFIED:20190215T003005Z
UID:5783-1559988000-1560009600@fohvos.org
SUMMARY:Tewksbury Historical Society Garden Tour
DESCRIPTION:RSVP (required) to info@fohvos.org
URL:https://fohvos.org/event/tewksbury-historical-society-garden-tour/
LOCATION:Pascale Farm Park
CATEGORIES:Strike Team
ATTACH;FMTTYPE=image/jpeg:https://fohvos.org/wp-content/uploads/2018/08/Bear-Tavern-Butterfly3.jpg
END:VEVENT
BEGIN:VEVENT
DTSTART;TZID=UTC:20190608T093000
DTEND;TZID=UTC:20190608T140000
DTSTAMP:20260425T140521
CREATED:20190213T204531Z
LAST-MODIFIED:20190506T161041Z
UID:5780-1559986200-1560002400@fohvos.org
SUMMARY:Hunterdon County North Branch Library - Garden Expo
DESCRIPTION:
URL:https://fohvos.org/event/hunterdon-county-north-branch-library-garden-expo/
LOCATION:Hunterdon County North Branch Library
CATEGORIES:Strike Team
ATTACH;FMTTYPE=image/jpeg:https://fohvos.org/wp-content/uploads/2018/11/USFS_Red_Trillium_By_Ramin_Nakisa.jpg
END:VEVENT
BEGIN:VEVENT
DTSTART;TZID=America/New_York:20190602T130000
DTEND;TZID=America/New_York:20190602T170000
DTSTAMP:20260425T140521
CREATED:20190213T075330Z
LAST-MODIFIED:20190503T192424Z
UID:5777-1559480400-1559494800@fohvos.org
SUMMARY:Strike Team Community Conference
DESCRIPTION:Registration Required\nClick Here to Register » \nThis conference will be geared towards a public audience. Tickets are $20. \nView Strike Team Community Conference agenda »
URL:https://fohvos.org/event/strike-team-2nd-conference/
LOCATION:Great Swamp National Wildlife Refuge – Helen C. Fenske Visitor Center\, 32 Pleasant Plains Rd.\, Harding Township\, NJ\, United States
CATEGORIES:Strike Team
ATTACH;FMTTYPE=image/jpeg:https://fohvos.org/wp-content/uploads/2018/09/SKYV_Nina_Burghardt_Sabatia_flowerCU-2.jpg
END:VEVENT
BEGIN:VEVENT
DTSTART;TZID=UTC:20190526T100000
DTEND;TZID=UTC:20190526T130000
DTSTAMP:20260425T140521
CREATED:20190213T072234Z
LAST-MODIFIED:20190213T072645Z
UID:5775-1558864800-1558875600@fohvos.org
SUMMARY:Essex County Master Gardeners (Invasive Species and Deer Resistant Natives)
DESCRIPTION:Training\nTopic: Invasive Species Talk\nRSVP (required) to info@fohvos.org
URL:https://fohvos.org/event/essex-county-master-gardeners-invasive-species-and-deer-resistant-natives-2/
LOCATION:Hilltop Reservation\, Hilltop Reservation\, Verona\, NJ\, 07044\, United States
CATEGORIES:Invasive Species Talk,Strike Team
ATTACH;FMTTYPE=image/jpeg:https://fohvos.org/wp-content/uploads/2018/09/MackowDryOakForestCheesequakeSP.jpg
END:VEVENT
BEGIN:VEVENT
DTSTART;TZID=UTC:20190518T090000
DTEND;TZID=UTC:20190518T120000
DTSTAMP:20260425T140521
CREATED:20190213T071815Z
LAST-MODIFIED:20190213T071815Z
UID:5772-1558170000-1558180800@fohvos.org
SUMMARY:Union County Invasive Species Workshop
DESCRIPTION:Training\nTopic: Invasive Species Talk\nRSVP (required) to info@fohvos.org
URL:https://fohvos.org/event/union-county-invasive-species-workshop/
LOCATION:Trailside Nature Center\, 452 New Providence Road\, Mountainside\, NJ\, United States
CATEGORIES:Invasive Species Talk,Strike Team
ATTACH;FMTTYPE=image/jpeg:https://fohvos.org/wp-content/uploads/2018/06/bp-2Btree.jpg
END:VEVENT
BEGIN:VEVENT
DTSTART;TZID=UTC:20190513T190000
DTEND;TZID=UTC:20190513T203000
DTSTAMP:20260425T140521
CREATED:20181129T010436Z
LAST-MODIFIED:20190213T071330Z
UID:5368-1557774000-1557779400@fohvos.org
SUMMARY:Cranford Garden Club - Invasive Species Impacts and Identification
DESCRIPTION:Topic: Invasive Species Talk \nRSVP (required) to info@fohvos.org
URL:https://fohvos.org/event/cranford-garden-club-invasive-species-impacts-and-identification/
LOCATION:TBD
CATEGORIES:Invasive Species Talk,Strike Team
ATTACH;FMTTYPE=image/jpeg:https://fohvos.org/wp-content/uploads/2018/01/Eames-2009_Mackow-4-e1533660491973.jpg
END:VEVENT
BEGIN:VEVENT
DTSTART;TZID=America/New_York:20190504T100000
DTEND;TZID=America/New_York:20190504T140000
DTSTAMP:20260425T140521
CREATED:20190213T055527Z
LAST-MODIFIED:20190503T232325Z
UID:5767-1556964000-1556978400@fohvos.org
SUMMARY:Jackson Woods Invasive Species Workshop
DESCRIPTION:Training\nTopic: Invasive Species\nRSVP (required) to longbranchgreenteam@gmail.com \nThe event will be about 2 hours long with the first hour being a presentation and the second hour being a site visit to Jackson woods. The presentation will start at 10AM and will be held at Seventh Avenue Community Garden Classroom. \nMore information here on Facebook event page »
URL:https://fohvos.org/event/jackson-woods-invasive-species-workshop/
LOCATION:Seventh Avenue Community Garden Classroom\, 87 7th Avenue\, Long Branch\, NJ\, 07740\, United States
CATEGORIES:Invasive Species Talk,Strike Team
ATTACH;FMTTYPE=image/jpeg:https://fohvos.org/wp-content/uploads/2019/02/Jackson-Woods-Event.jpg
END:VEVENT
BEGIN:VEVENT
DTSTART;TZID=UTC:20190427T110000
DTEND;TZID=UTC:20190427T160000
DTSTAMP:20260425T140521
CREATED:20190213T052803Z
LAST-MODIFIED:20190215T003226Z
UID:5764-1556362800-1556380800@fohvos.org
SUMMARY:Essex County Earth Day
DESCRIPTION:
URL:https://fohvos.org/event/essex-county-earth-day/
LOCATION:Essex County Environmental Center\, 612-B Eagle Rock Avenue\, Roseland\, NJ\, 07068\, United States
CATEGORIES:Strike Team
ATTACH;FMTTYPE=image/jpeg:https://fohvos.org/wp-content/uploads/2018/11/RVC_Pine_Pond_Preserve_No_Attribution.jpg
END:VEVENT
BEGIN:VEVENT
DTSTART;TZID=UTC:20190427T103000
DTEND;TZID=UTC:20190427T160000
DTSTAMP:20260425T140521
CREATED:20190213T052355Z
LAST-MODIFIED:20190215T003609Z
UID:5761-1556361000-1556380800@fohvos.org
SUMMARY:Hunterdon Parks Earth Day
DESCRIPTION:
URL:https://fohvos.org/event/hunterdon-parks-earth-day/
LOCATION:Echo Hill\, 42 Lilac Drive\, Flemington\, NJ\, 08822\, United States
CATEGORIES:Strike Team
ATTACH;FMTTYPE=image/jpeg:https://fohvos.org/wp-content/uploads/2018/09/LesserCelandine.jpg
END:VEVENT
BEGIN:VEVENT
DTSTART;TZID=UTC:20190412T090000
DTEND;TZID=UTC:20190412T160000
DTSTAMP:20260425T140521
CREATED:20190213T051815Z
LAST-MODIFIED:20190215T003404Z
UID:5758-1555059600-1555084800@fohvos.org
SUMMARY:NJ Land Trust Rally
DESCRIPTION:Registration for event required. Register here »
URL:https://fohvos.org/event/nj-land-trust-rally/
LOCATION:Hyatt Regency New Brunswick\, 2 Albany Street\, New Brunswick\, NJ\, 08901\, United States
CATEGORIES:Strike Team
ATTACH;FMTTYPE=image/jpeg:https://fohvos.org/wp-content/uploads/2018/09/fact-sheets-e1536247776577.jpg
END:VEVENT
BEGIN:VEVENT
DTSTART;TZID=UTC:20190407T130000
DTEND;TZID=UTC:20190407T160000
DTSTAMP:20260425T140521
CREATED:20190212T184944Z
LAST-MODIFIED:20190212T202220Z
UID:5746-1554642000-1554652800@fohvos.org
SUMMARY:High Bridge Environmental Commission Invasive Species Talk
DESCRIPTION:Topic: Invasive Species Talk \nRSVP (required) to info@fohvos.org
URL:https://fohvos.org/event/high-bridge-environmental-commission-invasive-species-talk/
LOCATION:Solitude House Museum\, 7 River Rd\, High Bridge\, NJ\, 08829\, United States
CATEGORIES:Invasive Species Talk,Strike Team
ATTACH;FMTTYPE=image/jpeg:https://fohvos.org/wp-content/uploads/2018/08/Aralia2.jpg
END:VEVENT
BEGIN:VEVENT
DTSTART;TZID=UTC:20190314T183000
DTEND;TZID=UTC:20190314T200000
DTSTAMP:20260425T140521
CREATED:20181129T005303Z
LAST-MODIFIED:20190213T050728Z
UID:5363-1552588200-1552593600@fohvos.org
SUMMARY:Somerset County Invasive Species Talk
DESCRIPTION:Topic: Invasive Species Talk
URL:https://fohvos.org/event/somerset-county-environmental-center-invasive-species-impacts-and-identification/
LOCATION:Somerset County Environmental Center\, 190 Lord Stirling Road\, Basking Ridge\, NJ\, 07920\, United States
CATEGORIES:Invasive Species Talk,Strike Team
ATTACH;FMTTYPE=image/jpeg:https://fohvos.org/wp-content/uploads/2018/08/Thompson_meadow_1-scaled.jpg
END:VEVENT
BEGIN:VEVENT
DTSTART;TZID=UTC:20190302T090000
DTEND;TZID=UTC:20190302T140000
DTSTAMP:20260425T140521
CREATED:20190212T183723Z
LAST-MODIFIED:20190215T003504Z
UID:5742-1551517200-1551535200@fohvos.org
SUMMARY:New Jersey Native Plant Society - Annual Meeting (South)
DESCRIPTION:Registration for event required. Register here »
URL:https://fohvos.org/event/new-jersey-native-plant-society-annual-meeting-south/
LOCATION:Medford Leas\, One Medford Leas Way\, Medford\, NJ\, 08055\, United States
CATEGORIES:Strike Team
ATTACH;FMTTYPE=image/jpeg:https://fohvos.org/wp-content/uploads/2018/11/Morris_County_Parks_Tourne_No_Attribution.jpg
END:VEVENT
BEGIN:VEVENT
DTSTART;TZID=UTC:20190226T190000
DTEND;TZID=UTC:20190226T203000
DTSTAMP:20260425T140521
CREATED:20181129T004848Z
LAST-MODIFIED:20181129T190238Z
UID:5360-1551207600-1551213000@fohvos.org
SUMMARY:Frelinghuysen Arboretum - State of NJ Invasive Species
DESCRIPTION:Topic: Invasive Species Talk
URL:https://fohvos.org/event/frelinghuysen-arboretum-state-of-nj-invasive-species/
LOCATION:Frelinghuysen Arboretum\, 353 East Hanover Ave\, Morristown\, NJ\, 07960\, United States
CATEGORIES:Invasive Species Talk,Strike Team
ATTACH;FMTTYPE=image/jpeg:https://fohvos.org/wp-content/uploads/2018/08/mt-rose.jpg
END:VEVENT
BEGIN:VEVENT
DTSTART;TZID=UTC:20190226T090000
DTEND;TZID=UTC:20190226T120000
DTSTAMP:20260425T140521
CREATED:20190212T180904Z
LAST-MODIFIED:20190212T181118Z
UID:5739-1551171600-1551182400@fohvos.org
SUMMARY:Atlantic County Master Gardeners Invasive Species Talk
DESCRIPTION:Topic: Invasive Species Talk \nRSVP (required) to info@fohvos.org
URL:https://fohvos.org/event/atlantic-county-master-gardeners-invasive-species-talk/
LOCATION:Atlantic County Master Gardeners\, 6260 Old Harding Highway\, Mays Landing\, NJ\, 08330\, United States
CATEGORIES:Invasive Species Talk,Strike Team
ATTACH;FMTTYPE=image/jpeg:https://fohvos.org/wp-content/uploads/2018/09/MackowSourlandsMeadow.jpg
END:VEVENT
BEGIN:VEVENT
DTSTART;TZID=UTC:20190211T190000
DTEND;TZID=UTC:20190211T203000
DTSTAMP:20260425T140521
CREATED:20181129T003643Z
LAST-MODIFIED:20181129T190249Z
UID:5357-1549911600-1549917000@fohvos.org
SUMMARY:New Providence Garden Club - Invasive Species Impacts and Identification
DESCRIPTION:Topic: Invasive Species Talk \nRSVP (required) to info@fohvos.org
URL:https://fohvos.org/event/new-providence-garden-club-invasive-species-impacts-and-identification/
LOCATION:TBD
CATEGORIES:Invasive Species Talk,Strike Team
ATTACH;FMTTYPE=image/jpeg:https://fohvos.org/wp-content/uploads/2018/03/IMG_0665-scaled.jpg
END:VEVENT
END:VCALENDAR