BEGIN:VCALENDAR
VERSION:2.0
PRODID:-//FoHVOS.org - ECPv6.15.20//NONSGML v1.0//EN
CALSCALE:GREGORIAN
METHOD:PUBLISH
X-ORIGINAL-URL:https://fohvos.org
X-WR-CALDESC:Events for FoHVOS.org
REFRESH-INTERVAL;VALUE=DURATION:PT1H
X-Robots-Tag:noindex
X-PUBLISHED-TTL:PT1H
BEGIN:VTIMEZONE
TZID:America/New_York
BEGIN:DAYLIGHT
TZOFFSETFROM:-0500
TZOFFSETTO:-0400
TZNAME:EDT
DTSTART:20240310T070000
END:DAYLIGHT
BEGIN:STANDARD
TZOFFSETFROM:-0400
TZOFFSETTO:-0500
TZNAME:EST
DTSTART:20241103T060000
END:STANDARD
BEGIN:DAYLIGHT
TZOFFSETFROM:-0500
TZOFFSETTO:-0400
TZNAME:EDT
DTSTART:20250309T070000
END:DAYLIGHT
BEGIN:STANDARD
TZOFFSETFROM:-0400
TZOFFSETTO:-0500
TZNAME:EST
DTSTART:20251102T060000
END:STANDARD
BEGIN:DAYLIGHT
TZOFFSETFROM:-0500
TZOFFSETTO:-0400
TZNAME:EDT
DTSTART:20260308T070000
END:DAYLIGHT
BEGIN:STANDARD
TZOFFSETFROM:-0400
TZOFFSETTO:-0500
TZNAME:EST
DTSTART:20261101T060000
END:STANDARD
END:VTIMEZONE
BEGIN:VEVENT
DTSTART;TZID=America/New_York:20250913T100000
DTEND;TZID=America/New_York:20250913T120000
DTSTAMP:20260426T002704
CREATED:20250506T131515Z
LAST-MODIFIED:20250506T131541Z
UID:17242-1757757600-1757764800@fohvos.org
SUMMARY:Strike Team Private Land Workshop
DESCRIPTION:About: The Strike Team is hosting a series of Private Land Workshops as part of our USFS grant. Come and learn about the amazing stewardship efforts performed by local residents on their own properties! Our final workshop will be at a private residence in Warren County.  \nWhen: Saturday\, September 13th 10am-12pm \nWhere: Hardwick\, NJ \n\n\n\n\n\nRegister\n\n\nThis event is FREE
URL:https://fohvos.org/event/strike-team-private-land-workshop3/
LOCATION:169 Stillwater Road\, 169 Stillwater Road\, Hardwick\, New Jersey\, 07825\, United States
CATEGORIES:Strike Team,Upcoming Event,Workshop
ATTACH;FMTTYPE=image/png:https://fohvos.org/wp-content/uploads/Screenshot-2025-05-06-at-9.06.15 AM.png
END:VEVENT
END:VCALENDAR