BEGIN:VCALENDAR
VERSION:2.0
PRODID:-//FoHVOS.org - ECPv6.15.20//NONSGML v1.0//EN
CALSCALE:GREGORIAN
METHOD:PUBLISH
X-WR-CALNAME:FoHVOS.org
X-ORIGINAL-URL:https://fohvos.org
X-WR-CALDESC:Events for FoHVOS.org
REFRESH-INTERVAL;VALUE=DURATION:PT1H
X-Robots-Tag:noindex
X-PUBLISHED-TTL:PT1H
BEGIN:VTIMEZONE
TZID:America/New_York
BEGIN:DAYLIGHT
TZOFFSETFROM:-0500
TZOFFSETTO:-0400
TZNAME:EDT
DTSTART:20250309T070000
END:DAYLIGHT
BEGIN:STANDARD
TZOFFSETFROM:-0400
TZOFFSETTO:-0500
TZNAME:EST
DTSTART:20251102T060000
END:STANDARD
BEGIN:DAYLIGHT
TZOFFSETFROM:-0500
TZOFFSETTO:-0400
TZNAME:EDT
DTSTART:20260308T070000
END:DAYLIGHT
BEGIN:STANDARD
TZOFFSETFROM:-0400
TZOFFSETTO:-0500
TZNAME:EST
DTSTART:20261101T060000
END:STANDARD
BEGIN:DAYLIGHT
TZOFFSETFROM:-0500
TZOFFSETTO:-0400
TZNAME:EDT
DTSTART:20270314T070000
END:DAYLIGHT
BEGIN:STANDARD
TZOFFSETFROM:-0400
TZOFFSETTO:-0500
TZNAME:EST
DTSTART:20271107T060000
END:STANDARD
END:VTIMEZONE
BEGIN:VEVENT
DTSTART;TZID=America/New_York:20260124T110000
DTEND;TZID=America/New_York:20260124T130000
DTSTAMP:20260425T075632
CREATED:20250110T145652Z
LAST-MODIFIED:20260109T185756Z
UID:16737-1769252400-1769259600@fohvos.org
SUMMARY:Hatch A Hundred Info Session
DESCRIPTION:Hatch A Hundred Info Session\n\n\n\n\n\n\n\n\n\n\n\n\n\nAmerican Kestrels\, North America’s smallest falcon\, are facing a steep population decline due to habitat loss and other environmental challenges. These incredible birds depend on open grasslands and natural cavities for nesting\, but these habitats are disappearing at an alarming rate. \n\n\n\nHatch a Hundred is a community-driven effort to support kestrel populations by installing and monitoring nest boxes. These boxes provide safe nesting sites\, helping to stabilize and increase kestrel numbers.  \n\n\n\nTogether\, we can make a difference for this species in our region. You can help by volunteering as a nest box monitor or hosting a nest box on your property! Join us on Saturday January 24th to learn more. Registration required. \n\n\n\n\nRegister to Attend
URL:https://fohvos.org/event/hatch-a-hundred-info-session-2/
LOCATION:Historic Hunt House\, 197 Blackwell Rd\, Pennington\, New Jersey\, 08534\, United States
CATEGORIES:FoHVOS,FoHVOS Fundraisers,Upcoming Event
ATTACH;FMTTYPE=image/jpeg:https://fohvos.org/wp-content/uploads/hatch-a-hundred-banner-v3_compressed.jpg
END:VEVENT
END:VCALENDAR