BEGIN:VCALENDAR
VERSION:2.0
PRODID:-//FoHVOS.org - ECPv6.15.20//NONSGML v1.0//EN
CALSCALE:GREGORIAN
METHOD:PUBLISH
X-ORIGINAL-URL:https://fohvos.org
X-WR-CALDESC:Events for FoHVOS.org
REFRESH-INTERVAL;VALUE=DURATION:PT1H
X-Robots-Tag:noindex
X-PUBLISHED-TTL:PT1H
BEGIN:VTIMEZONE
TZID:America/New_York
BEGIN:DAYLIGHT
TZOFFSETFROM:-0500
TZOFFSETTO:-0400
TZNAME:EDT
DTSTART:20240310T070000
END:DAYLIGHT
BEGIN:STANDARD
TZOFFSETFROM:-0400
TZOFFSETTO:-0500
TZNAME:EST
DTSTART:20241103T060000
END:STANDARD
BEGIN:DAYLIGHT
TZOFFSETFROM:-0500
TZOFFSETTO:-0400
TZNAME:EDT
DTSTART:20250309T070000
END:DAYLIGHT
BEGIN:STANDARD
TZOFFSETFROM:-0400
TZOFFSETTO:-0500
TZNAME:EST
DTSTART:20251102T060000
END:STANDARD
BEGIN:DAYLIGHT
TZOFFSETFROM:-0500
TZOFFSETTO:-0400
TZNAME:EDT
DTSTART:20260308T070000
END:DAYLIGHT
BEGIN:STANDARD
TZOFFSETFROM:-0400
TZOFFSETTO:-0500
TZNAME:EST
DTSTART:20261101T060000
END:STANDARD
END:VTIMEZONE
BEGIN:VEVENT
DTSTART;TZID=America/New_York:20250914T150000
DTEND;TZID=America/New_York:20250914T190000
DTSTAMP:20260425T143239
CREATED:20250408T140748Z
LAST-MODIFIED:20250812T210810Z
UID:17141-1757862000-1757876400@fohvos.org
SUMMARY:FoHVOS Annual Gala
DESCRIPTION:When: Sunday September 14th3:00PM-4:00PM VIP Essential Experience4:00PM-7:00PM Annual Gala \nWhere: Glenmoore Farm \nFood by JustFood CateringMusic by Clyde St. Clifford and the Omnidextrous Jazz Ensemble \n\nFull Details\n\n\n\nPURCHASE TICKETS
URL:https://fohvos.org/event/fohvos-annual-gala-2/
LOCATION:Glenmoore Farm\, 105 Pennington - Hopewell Road\, Hopewell\, New Jersey\, 08525\, United States
CATEGORIES:FoHVOS,Upcoming Event
ATTACH;FMTTYPE=image/jpeg:https://fohvos.org/wp-content/uploads/FoHVOS-2025-3.jpg
END:VEVENT
END:VCALENDAR