BEGIN:VCALENDAR
VERSION:2.0
PRODID:-//FoHVOS.org - ECPv6.15.20//NONSGML v1.0//EN
CALSCALE:GREGORIAN
METHOD:PUBLISH
X-ORIGINAL-URL:https://fohvos.org
X-WR-CALDESC:Events for FoHVOS.org
REFRESH-INTERVAL;VALUE=DURATION:PT1H
X-Robots-Tag:noindex
X-PUBLISHED-TTL:PT1H
BEGIN:VTIMEZONE
TZID:America/New_York
BEGIN:DAYLIGHT
TZOFFSETFROM:-0500
TZOFFSETTO:-0400
TZNAME:EDT
DTSTART:20240310T070000
END:DAYLIGHT
BEGIN:STANDARD
TZOFFSETFROM:-0400
TZOFFSETTO:-0500
TZNAME:EST
DTSTART:20241103T060000
END:STANDARD
BEGIN:DAYLIGHT
TZOFFSETFROM:-0500
TZOFFSETTO:-0400
TZNAME:EDT
DTSTART:20250309T070000
END:DAYLIGHT
BEGIN:STANDARD
TZOFFSETFROM:-0400
TZOFFSETTO:-0500
TZNAME:EST
DTSTART:20251102T060000
END:STANDARD
BEGIN:DAYLIGHT
TZOFFSETFROM:-0500
TZOFFSETTO:-0400
TZNAME:EDT
DTSTART:20260308T070000
END:DAYLIGHT
BEGIN:STANDARD
TZOFFSETFROM:-0400
TZOFFSETTO:-0500
TZNAME:EST
DTSTART:20261101T060000
END:STANDARD
END:VTIMEZONE
BEGIN:VEVENT
DTSTART;TZID=America/New_York:20250504T090000
DTEND;TZID=America/New_York:20250504T113000
DTSTAMP:20260425T215012
CREATED:20250305T202956Z
LAST-MODIFIED:20250408T134548Z
UID:17067-1746349200-1746358200@fohvos.org
SUMMARY:FoHVOS Annual Hike
DESCRIPTION:When: Sunday May 4th\, 9am-11:30am \nWhere: Ted Stiles Preserve at Baldpate Mountain  \n\nAbout: FoHVOS and Mercer County are hosting the Ted Stiles Memorial Hike at Baldpate Mountain. This community event was held annually in honor of former FoHVOS president Ted Stiles\, whose vision and dedication helped direct the preservation of thousands of acres in Hopewell Valley\, including Baldpate. We are bringing this hike back in 2025\, and beginning this year\, we’ll also be celebrating the longstanding partnership between our organizations that has led to impactful (and many) restoration projects to protect and preserve the Mountain’s many ecological features. \nThis year\, we are offering not one but three themed hikes led by FoHVOS staff. All hikes will begin at 9 am and will focus on a different topic and will last about 90 min. After the hikes\, all groups will meet at the historic lodge near the Baldpate mansion for coffee and donuts and meaningful community discussion. \nHike descriptions are below. Please only register for the hike you plan to attend. All hikes will begin at 9am. \n\nHike Option #1: Stewardship Hike \nBaldpate Mountain was a huge preservation success for Hopewell Valley and Mercer County – for its size\, but also conservation values.  Rare species\, both plant and animal find refuge at the preserve.  To best care for these species and their communities\, the co-owners and managers of Baldpate collaborate on restoration planning initiatives\, implementation\, and their maintenance. Join the stewardship directors of FoHVOS and Mercer County on this hike to learn more about the two decades of collaborate conservation efforts on the mountain. \nHike Option #2: Guided Botanical Walk \nDid you know there are 24 rare plant species documented at Baldpate Mountain? FoHVOS routinely monitor these rare plants to track population status and better inform our stewardship efforts. Join FoHVOS Land Stewards Dana and Kaitlin on a trail walk where we will focus on identifying some of the many plants found at Baldpate and discuss some of the work FoHVOS does to protect them.  \nHike Option #3: Birding the Baldpate Driveway \nFor nearly 20 years\, birding the driveway of Baldpate has almost been its own rite of spring for our local nature enthusiasts.  Join FoHVOS Executive Director Jenn and local community scientist Jack\, for a picturesque stroll and search for our colorful harbingers of spring\, all the way to the summit of the mountain.  In addition to filling our forests and souls with song\, these neotropical migrants played an important role in the preservation of Baldpate. BYOB: Please bring your own binoculars.  \n\n\nRegister for a Hike!\n\n\n\nDirections: Enter at 28 Fiddlers Creek Road and follow the driveway all the way up to the parking lot at the summit\, near the Baldpate mansion.
URL:https://fohvos.org/event/annual-fohvos-hike/
LOCATION:Baldpate Mountain\, 28 Fiddlers Creek Road\, Titusville\, NJ\, 08560\, United States
CATEGORIES:FoHVOS,Hike,Upcoming Event
ATTACH;FMTTYPE=image/png:https://fohvos.org/wp-content/uploads/Screenshot-2025-03-27-at-2.47.28 PM.png
END:VEVENT
BEGIN:VEVENT
DTSTART;TZID=America/New_York:20250517T080000
DTEND;TZID=America/New_York:20250517T100000
DTSTAMP:20260425T215012
CREATED:20250212T173658Z
LAST-MODIFIED:20250212T173748Z
UID:16877-1747468800-1747476000@fohvos.org
SUMMARY:Just Birds with Jack & Jenn
DESCRIPTION:Just Birds with Jack & Jenn\n\n\n\n\n\n\n\n\n\n\n\n\n\n\n\n\n\nJack and Jenn started birding together over 10 years ago\, and have since worked together on several bird conservation projects in central NJ. Beginning this spring\, they are teaming up to host public bird walks at FoHVOS preserves. These interpretive bird walks are open to all\, but especially geared towards newer and beginning birders. Please bring your own binoculars\, we’ll provide the rest! Registration for this event is required. \nDate: Saturday May 17 \nTime: 8:00AM-10:00AM \nLocation: Woosamonsa Ridge Preserve \n\nRegister
URL:https://fohvos.org/event/just-birds-with-jack-jenn2/
LOCATION:Woosamonsa Ridge Preserve\, Woosamonsa Ridge Preserve\, Pennington\, NJ\, 08534\, United States
CATEGORIES:Birding,FoHVOS,Hike,Upcoming Event
ATTACH;FMTTYPE=image/jpeg:https://fohvos.org/wp-content/uploads/2018/01/Birding-hike-1-scaled.jpg
END:VEVENT
END:VCALENDAR