BEGIN:VCALENDAR
VERSION:2.0
PRODID:-//FoHVOS.org - ECPv6.15.20//NONSGML v1.0//EN
CALSCALE:GREGORIAN
METHOD:PUBLISH
X-WR-CALNAME:FoHVOS.org
X-ORIGINAL-URL:https://fohvos.org
X-WR-CALDESC:Events for FoHVOS.org
REFRESH-INTERVAL;VALUE=DURATION:PT1H
X-Robots-Tag:noindex
X-PUBLISHED-TTL:PT1H
BEGIN:VTIMEZONE
TZID:America/New_York
BEGIN:DAYLIGHT
TZOFFSETFROM:-0500
TZOFFSETTO:-0400
TZNAME:EDT
DTSTART:20250309T070000
END:DAYLIGHT
BEGIN:STANDARD
TZOFFSETFROM:-0400
TZOFFSETTO:-0500
TZNAME:EST
DTSTART:20251102T060000
END:STANDARD
BEGIN:DAYLIGHT
TZOFFSETFROM:-0500
TZOFFSETTO:-0400
TZNAME:EDT
DTSTART:20260308T070000
END:DAYLIGHT
BEGIN:STANDARD
TZOFFSETFROM:-0400
TZOFFSETTO:-0500
TZNAME:EST
DTSTART:20261101T060000
END:STANDARD
BEGIN:DAYLIGHT
TZOFFSETFROM:-0500
TZOFFSETTO:-0400
TZNAME:EDT
DTSTART:20270314T070000
END:DAYLIGHT
BEGIN:STANDARD
TZOFFSETFROM:-0400
TZOFFSETTO:-0500
TZNAME:EST
DTSTART:20271107T060000
END:STANDARD
END:VTIMEZONE
BEGIN:VEVENT
DTSTART;TZID=America/New_York:20260424T083000
DTEND;TZID=America/New_York:20260424T100000
DTSTAMP:20260423T083236
CREATED:20260331T122048Z
LAST-MODIFIED:20260401T144600Z
UID:18757-1777019400-1777024800@fohvos.org
SUMMARY:Just Birds with Jack and Jenn
DESCRIPTION:For nearly 20 years\, birding the driveway of Baldpate has almost been its own rite of spring for our local nature enthusiasts. Join our Executive Director Jenn and local community scientist Jack\, for a picturesque stroll and search for our colorful harbingers of spring\, all the way to the summit of the mountain. In addition to filling our forests and souls with song\, these neotropical migrants played an important role in the preservation of Baldpate. BYOB: Please bring your own binoculars. \n\n\n\n\n\n\nRegister today!
URL:https://fohvos.org/event/just-birds-with-jack-and-jenn-2/
LOCATION:Baldpate Mountain\, 28 Fiddlers Creek Road\, Titusville\, NJ\, 08560\, United States
ATTACH;FMTTYPE=image/jpeg:https://fohvos.org/wp-content/uploads/IMG_2321-1-1.jpg
END:VEVENT
BEGIN:VEVENT
DTSTART;TZID=America/New_York:20260425T100000
DTEND;TZID=America/New_York:20260425T113000
DTSTAMP:20260423T083236
CREATED:20260311T200736Z
LAST-MODIFIED:20260401T124908Z
UID:18703-1777111200-1777116600@fohvos.org
SUMMARY:Spring Ephemeral Walk
DESCRIPTION:Celebrate Earth Week with FoHVOS! \n\n\n\nJoin Land Steward Alyssa Saturday April 25th for a hike at Woosamonsa Ridge (2025 Trail of the Year Winner!) where we will search for the beautiful\, but short-lived\, spring ephemerals! Spring ephemerals are woodland wildflowers that bloom in the brief window between snow melt and tree leaf-out. On this guided hike\, we hope to spot species like bloodroot\, rue anemone\, wild geranium and learn about the signs of spring. This hike will be at a leisurely pace on trails. Be sure to bring water and wear shoes appropriate for hiking. \n\n\n\nThe walk will take place from 10:00AM to 11:30PM. Registration is required. There is limited parking on site. \n\n\n\n\n\n\nRegister today!
URL:https://fohvos.org/event/spring-ephemeral-walk-3/
LOCATION:NJ
ATTACH;FMTTYPE=image/png:https://fohvos.org/wp-content/uploads/Screenshot-2025-02-11-at-3.56.35 PM.png
END:VEVENT
BEGIN:VEVENT
DTSTART;TZID=America/New_York:20260501T083000
DTEND;TZID=America/New_York:20260501T100000
DTSTAMP:20260423T083236
CREATED:20260331T122559Z
LAST-MODIFIED:20260401T144639Z
UID:18759-1777624200-1777629600@fohvos.org
SUMMARY:Just Birds with Jack and Jenn
DESCRIPTION:Join our Executive Director Jenn and local community scientist Jack\, for a picturesque stroll and search for our colorful harbingers of spring at Mount Rose Preserve. \n\n\n\n\n\n\nRegister today!
URL:https://fohvos.org/event/just-birds-with-jack-and-jenn-3/
LOCATION:Mount Rose Preserve\, Mount Rose Preserve\, Princeton\, NJ\, 08540\, United States
ATTACH;FMTTYPE=image/jpeg:https://fohvos.org/wp-content/uploads/IMG_2321-1-1.jpg
END:VEVENT
BEGIN:VEVENT
DTSTART;TZID=America/New_York:20260503T090000
DTEND;TZID=America/New_York:20260503T113000
DTSTAMP:20260423T083237
CREATED:20260331T123255Z
LAST-MODIFIED:20260410T011132Z
UID:18763-1777798800-1777807800@fohvos.org
SUMMARY:FoHVOS Annual Ted Stiles Memorial Hike
DESCRIPTION:FoHVOS is hosting the Ted Stiles Memorial Hike at Baldpate Mountain. The hike is held in honor of former FoHVOS president Ted Stiles whose vision helped preserve thousands of acres in Hopewell Valley.  \n\n\n\nJoin one of three 90-min hikes\, each focusing on a different topic and led by FoHVOS staff and volunteers. All hikes begin at 9 am. At the end\, all groups will meet at the historic lodge for coffee and doughnuts and community discussion. \n\n\n\n\n\n\nRegister today!
URL:https://fohvos.org/event/fohvos-annual-ted-stiles-memorial-hike/
LOCATION:Baldpate Mountain\, 28 Fiddlers Creek Road\, Titusville\, NJ\, 08560\, United States
ATTACH;FMTTYPE=image/jpeg:https://fohvos.org/wp-content/uploads/IMG_9553-1.jpg
END:VEVENT
BEGIN:VEVENT
DTSTART;TZID=America/New_York:20260508T083000
DTEND;TZID=America/New_York:20260508T100000
DTSTAMP:20260423T083237
CREATED:20260331T122721Z
LAST-MODIFIED:20260401T144710Z
UID:18761-1778229000-1778234400@fohvos.org
SUMMARY:Just Birds with Jack and Jenn
DESCRIPTION:For nearly 20 years\, birding the driveway of Baldpate has almost been its own rite of spring for our local nature enthusiasts. Join our Executive Director Jenn and local community scientist Jack\, for a picturesque stroll and search for our colorful harbingers of spring\, all the way to the summit of the mountain. In addition to filling our forests and souls with song\, these neotropical migrants played an important role in the preservation of Baldpate. BYOB: Please bring your own binoculars. \n\n\n\n\n\n\nRegister today!
URL:https://fohvos.org/event/just-birds-with-jack-and-jenn-4/
LOCATION:Baldpate Mountain\, 28 Fiddlers Creek Road\, Titusville\, NJ\, 08560\, United States
ATTACH;FMTTYPE=image/jpeg:https://fohvos.org/wp-content/uploads/IMG_2321-1-1.jpg
END:VEVENT
END:VCALENDAR