BEGIN:VCALENDAR
VERSION:2.0
PRODID:-//FoHVOS.org - ECPv6.15.20//NONSGML v1.0//EN
CALSCALE:GREGORIAN
METHOD:PUBLISH
X-WR-CALNAME:FoHVOS.org
X-ORIGINAL-URL:https://fohvos.org
X-WR-CALDESC:Events for FoHVOS.org
REFRESH-INTERVAL;VALUE=DURATION:PT1H
X-Robots-Tag:noindex
X-PUBLISHED-TTL:PT1H
BEGIN:VTIMEZONE
TZID:America/New_York
BEGIN:DAYLIGHT
TZOFFSETFROM:-0500
TZOFFSETTO:-0400
TZNAME:EDT
DTSTART:20250309T070000
END:DAYLIGHT
BEGIN:STANDARD
TZOFFSETFROM:-0400
TZOFFSETTO:-0500
TZNAME:EST
DTSTART:20251102T060000
END:STANDARD
BEGIN:DAYLIGHT
TZOFFSETFROM:-0500
TZOFFSETTO:-0400
TZNAME:EDT
DTSTART:20260308T070000
END:DAYLIGHT
BEGIN:STANDARD
TZOFFSETFROM:-0400
TZOFFSETTO:-0500
TZNAME:EST
DTSTART:20261101T060000
END:STANDARD
BEGIN:DAYLIGHT
TZOFFSETFROM:-0500
TZOFFSETTO:-0400
TZNAME:EDT
DTSTART:20270314T070000
END:DAYLIGHT
BEGIN:STANDARD
TZOFFSETFROM:-0400
TZOFFSETTO:-0500
TZNAME:EST
DTSTART:20271107T060000
END:STANDARD
END:VTIMEZONE
BEGIN:VEVENT
DTSTART;TZID=America/New_York:20260424T083000
DTEND;TZID=America/New_York:20260424T100000
DTSTAMP:20260424T170850
CREATED:20260331T122048Z
LAST-MODIFIED:20260401T144600Z
UID:18757-1777019400-1777024800@fohvos.org
SUMMARY:Just Birds with Jack and Jenn
DESCRIPTION:For nearly 20 years\, birding the driveway of Baldpate has almost been its own rite of spring for our local nature enthusiasts. Join our Executive Director Jenn and local community scientist Jack\, for a picturesque stroll and search for our colorful harbingers of spring\, all the way to the summit of the mountain. In addition to filling our forests and souls with song\, these neotropical migrants played an important role in the preservation of Baldpate. BYOB: Please bring your own binoculars. \n\n\n\n\n\n\nRegister today!
URL:https://fohvos.org/event/just-birds-with-jack-and-jenn-2/
LOCATION:Baldpate Mountain\, 28 Fiddlers Creek Road\, Titusville\, NJ\, 08560\, United States
ATTACH;FMTTYPE=image/jpeg:https://fohvos.org/wp-content/uploads/IMG_2321-1-1.jpg
END:VEVENT
END:VCALENDAR